BEGIN:VCALENDAR
VERSION:2.0
PRODID:-//Euskirchener Tennis Club Rot-Weiss e.V. - ECPv5.16.1.1//NONSGML v1.0//EN
CALSCALE:GREGORIAN
METHOD:PUBLISH
X-WR-CALNAME:Euskirchener Tennis Club Rot-Weiss e.V.
X-ORIGINAL-URL:http://tc-rotweiss-euskirchen.de
X-WR-CALDESC:Veranstaltungen für Euskirchener Tennis Club Rot-Weiss e.V.
BEGIN:VTIMEZONE
TZID:Europe/Berlin
BEGIN:DAYLIGHT
TZOFFSETFROM:+0100
TZOFFSETTO:+0200
TZNAME:CEST
DTSTART:20170326T010000
END:DAYLIGHT
BEGIN:STANDARD
TZOFFSETFROM:+0200
TZOFFSETTO:+0100
TZNAME:CET
DTSTART:20171029T010000
END:STANDARD
END:VTIMEZONE
BEGIN:VEVENT
DTSTART;TZID=Europe/Berlin:20170611T090000
DTEND;TZID=Europe/Berlin:20170611T140000
DTSTAMP:20260420T221020
CREATED:20170510T115114Z
LAST-MODIFIED:20170510T115427Z
UID:259-1497171600-1497189600@tc-rotweiss-euskirchen.de
SUMMARY:1. Mannschaft Damen 15 -> TC GW Am Kreuzberg
DESCRIPTION:
URL:http://tc-rotweiss-euskirchen.de/event/1-mannschaft-damen-15-tc-gw-am-kreuzberg/
LOCATION:Tennisclub Rot Weiss Euskirchen
CATEGORIES:Damen 15
END:VEVENT
END:VCALENDAR