BEGIN:VCALENDAR
VERSION:2.0
PRODID:-//Euskirchener Tennis Club Rot-Weiss e.V. - ECPv5.16.1.1//NONSGML v1.0//EN
CALSCALE:GREGORIAN
METHOD:PUBLISH
X-WR-CALNAME:Euskirchener Tennis Club Rot-Weiss e.V.
X-ORIGINAL-URL:http://tc-rotweiss-euskirchen.de
X-WR-CALDESC:Veranstaltungen für Euskirchener Tennis Club Rot-Weiss e.V.
BEGIN:VTIMEZONE
TZID:Europe/Berlin
BEGIN:DAYLIGHT
TZOFFSETFROM:+0100
TZOFFSETTO:+0200
TZNAME:CEST
DTSTART:20170326T010000
END:DAYLIGHT
BEGIN:STANDARD
TZOFFSETFROM:+0200
TZOFFSETTO:+0100
TZNAME:CET
DTSTART:20171029T010000
END:STANDARD
END:VTIMEZONE
BEGIN:VEVENT
DTSTART;TZID=Europe/Berlin:20170610T143000
DTEND;TZID=Europe/Berlin:20170610T180000
DTSTAMP:20260419T172725
CREATED:20170510T113429Z
LAST-MODIFIED:20170510T115628Z
UID:250-1497105000-1497117600@tc-rotweiss-euskirchen.de
SUMMARY:1. Mannschaft Herren 40 -> TC Drabenderhöhe
DESCRIPTION:
URL:http://tc-rotweiss-euskirchen.de/event/1-mannschaft-herren-40-tc-drabenderhoehe/
LOCATION:Tennisclub Rot Weiss Euskirchen
CATEGORIES:Herren 40
END:VEVENT
END:VCALENDAR