BEGIN:VCALENDAR
VERSION:2.0
PRODID:-//Euskirchener Tennis Club Rot-Weiss e.V. - ECPv5.16.1.1//NONSGML v1.0//EN
CALSCALE:GREGORIAN
METHOD:PUBLISH
X-WR-CALNAME:Euskirchener Tennis Club Rot-Weiss e.V.
X-ORIGINAL-URL:http://tc-rotweiss-euskirchen.de
X-WR-CALDESC:Veranstaltungen für Euskirchener Tennis Club Rot-Weiss e.V.
BEGIN:VTIMEZONE
TZID:Europe/Berlin
BEGIN:DAYLIGHT
TZOFFSETFROM:+0100
TZOFFSETTO:+0200
TZNAME:CEST
DTSTART:20240331T010000
END:DAYLIGHT
BEGIN:STANDARD
TZOFFSETFROM:+0200
TZOFFSETTO:+0100
TZNAME:CET
DTSTART:20241027T010000
END:STANDARD
END:VTIMEZONE
BEGIN:VEVENT
DTSTART;TZID=Europe/Berlin:20240920T200000
DTEND;TZID=Europe/Berlin:20240920T233000
DTSTAMP:20260419T185635
CREATED:20240917T132449Z
LAST-MODIFIED:20240917T132703Z
UID:2015-1726862400-1726875000@tc-rotweiss-euskirchen.de
SUMMARY:Players Night 20.09.2024
DESCRIPTION:Plakat Players Night 24
URL:http://tc-rotweiss-euskirchen.de/event/players-night-20-09-2024/
END:VEVENT
END:VCALENDAR